BEGIN:VCALENDAR
VERSION:2.0
PRODID:-//Plone.org//NONSGML plone.app.event//EN
X-WR-TIMEZONE:Europe/Madrid
BEGIN:VEVENT
SUMMARY:Hora del conte i taller per a infants
DTSTART;TZID=Europe/Madrid;VALUE=DATE-TIME:20110804T183000
DTEND;TZID=Europe/Madrid;VALUE=DATE-TIME:20110804T193000
DTSTAMP;VALUE=DATE-TIME:20260420T015625Z
UID:02baf02f34173466e06038d062cdf50c
CREATED;VALUE=DATE-TIME:20110804T000000Z
CATEGORIES:Infantils
LOCATION:Biblioplatja - Platja de la Picòrdia
ORGANIZER:Biblioteca - Regidoria de Cultura
DESCRIPTION:a càrrec d'Albert Estengre
URL:https://arenysdemar.cat/document.php?id=22996
END:VEVENT
END:VCALENDAR