BEGIN:VCALENDAR
VERSION:2.0
PRODID:-//Plone.org//NONSGML plone.app.event//EN
X-WR-TIMEZONE:Europe/Madrid
BEGIN:VEVENT
SUMMARY:Festa al carrer Bisbe Vilà i Mateu
DTSTART;TZID=Europe/Madrid;VALUE=DATE-TIME:20110716T000000
DTEND;TZID=Europe/Madrid;VALUE=DATE-TIME:20110716T010000
DTSTAMP;VALUE=DATE-TIME:20260422T010120Z
UID:7e9b5cf4909874c162f1e6c4cfd33969
CREATED;VALUE=DATE-TIME:20110716T000000Z
CATEGORIES:Festa
ORGANIZER:Comissió de festes carrer Bisbe Vilà i Mateu
URL:https://arenysdemar.cat/document.php?id=23013
END:VEVENT
END:VCALENDAR