BEGIN:VCALENDAR
VERSION:2.0
PRODID:-//Plone.org//NONSGML plone.app.event//EN
X-WR-TIMEZONE:Europe/Madrid
BEGIN:VEVENT
SUMMARY:Festa al carrer Sant Ramon
DTSTART;TZID=Europe/Madrid;VALUE=DATE-TIME:20110826T000000
DTEND;TZID=Europe/Madrid;VALUE=DATE-TIME:20110826T010000
DTSTAMP;VALUE=DATE-TIME:20260422T115813Z
UID:cd47bdddadec7e6acc3401ebf07c44bc
CREATED;VALUE=DATE-TIME:20110826T000000Z
CATEGORIES:Festa
LOCATION:al carrer Sant Ramon
ORGANIZER:Comissió de festes carrer Sant Ramon
COMMENT:Durada: Fins al 27 d'agost de 2011
DESCRIPTION:Participa-hi!
URL:https://arenysdemar.cat/document.php?id=23017
END:VEVENT
END:VCALENDAR