BEGIN:VCALENDAR
VERSION:2.0
PRODID:-//Plone.org//NONSGML plone.app.event//EN
X-WR-TIMEZONE:Europe/Madrid
BEGIN:VEVENT
SUMMARY:Festa al Pla dels Frares
DTSTART;TZID=Europe/Madrid;VALUE=DATE-TIME:20110902T000000
DTEND;TZID=Europe/Madrid;VALUE=DATE-TIME:20110902T010000
DTSTAMP;VALUE=DATE-TIME:20260422T040544Z
UID:56003a67c3200de6b09627cba6bd6e83
CREATED;VALUE=DATE-TIME:20110902T000000Z
CATEGORIES:Festa
LOCATION:al Pla dels Frares
ORGANIZER:Comissió de festes del Pla dels Frares
COMMENT:Durada: Fins al 3 de setembre de 2011
DESCRIPTION:Participa-hi!
URL:https://arenysdemar.cat/document.php?id=23018
END:VEVENT
END:VCALENDAR