BEGIN:VCALENDAR
VERSION:2.0
PRODID:-//Plone.org//NONSGML plone.app.event//EN
X-WR-TIMEZONE:Europe/Madrid
BEGIN:VEVENT
SUMMARY:Passejada : Fem un tast de natura
DTSTART;TZID=Europe/Madrid;VALUE=DATE-TIME:20110823T190000
DTEND;TZID=Europe/Madrid;VALUE=DATE-TIME:20110823T200000
DTSTAMP;VALUE=DATE-TIME:20260424T233424Z
UID:9d2e4227a82bc150440a5a832029c0f1
CREATED;VALUE=DATE-TIME:20110823T000000Z
LOCATION:Biblioplatja - Platja de la Picòrdia
ORGANIZER:Biblioteca-Regidoria de Cultura
DESCRIPTION:a càrrec de Carme Buxalleu
URL:https://arenysdemar.cat/document.php?id=23027
END:VEVENT
END:VCALENDAR