BEGIN:VCALENDAR
VERSION:2.0
PRODID:-//Plone.org//NONSGML plone.app.event//EN
X-WR-TIMEZONE:Europe/Madrid
BEGIN:VEVENT
SUMMARY:Exposició de fotografies: Jazz
DTSTART;TZID=Europe/Madrid;VALUE=DATE-TIME:20110801T000000
DTEND;TZID=Europe/Madrid;VALUE=DATE-TIME:20110801T010000
DTSTAMP;VALUE=DATE-TIME:20260421T050308Z
UID:f9e298adc3c11350f6a7947425f04a24
CREATED;VALUE=DATE-TIME:20110801T000000Z
CATEGORIES:Exposició
LOCATION:Sala de les bótes del C.C.Calisay
ORGANIZER:Regidoria de Cultura
COMMENT:Durada: fins al 10 d'agost
DESCRIPTION:Imatges de Vicens Tomàs
URL:https://arenysdemar.cat/document.php?id=23061
END:VEVENT
END:VCALENDAR