BEGIN:VCALENDAR
VERSION:2.0
PRODID:-//Plone.org//NONSGML plone.app.event//EN
X-WR-TIMEZONE:Europe/Madrid
BEGIN:VEVENT
SUMMARY:Patis oberts
DTSTART;TZID=Europe/Madrid;VALUE=DATE-TIME:20110801T000000
DTEND;TZID=Europe/Madrid;VALUE=DATE-TIME:20110801T010000
DTSTAMP;VALUE=DATE-TIME:20260420T074528Z
UID:3742b87c5c26db6deb9b4c4055d25a5c
CREATED;VALUE=DATE-TIME:20110801T000000Z
CATEGORIES:Esports
LOCATION:Els patis de l'Escola Sinera
ORGANIZER:Regidoria d'Infància i Joventut
COMMENT:Durada: Durant el mes d'agost
URL:https://arenysdemar.cat/document.php?id=23085
END:VEVENT
END:VCALENDAR