BEGIN:VCALENDAR
VERSION:2.0
PRODID:-//Plone.org//NONSGML plone.app.event//EN
X-WR-TIMEZONE:Europe/Madrid
BEGIN:VEVENT
SUMMARY:Puig i Fontanals, carters professionals
DTSTART;TZID=Europe/Madrid;VALUE=DATE-TIME:20111009T180000
DTEND;TZID=Europe/Madrid;VALUE=DATE-TIME:20111009T190000
DTSTAMP;VALUE=DATE-TIME:20260425T135841Z
UID:b58d6b1a49b61db3ad0fad03a547b50d
CREATED;VALUE=DATE-TIME:20111009T000000Z
CATEGORIES:Infantils
LOCATION:Teatre Principal - C. Església, 45-47
ORGANIZER:SC L'Esperança - Regidoria de Cultura
COMMENT:Preu: 5 
DESCRIPTION:a càrrec de la Cia. El que ma queda de teatre
URL:https://arenysdemar.cat/document.php?id=23120
END:VEVENT
END:VCALENDAR