BEGIN:VCALENDAR
VERSION:2.0
PRODID:-//Plone.org//NONSGML plone.app.event//EN
X-WR-TIMEZONE:Europe/Madrid
BEGIN:VEVENT
SUMMARY:Fira mercat del col·leccionisme i antiquaris
DTSTART;TZID=Europe/Madrid;VALUE=DATE-TIME:20120715T100000
DTEND;TZID=Europe/Madrid;VALUE=DATE-TIME:20120715T110000
DTSTAMP;VALUE=DATE-TIME:20260425T032419Z
UID:4516ba5e3cc75afffc59ddccb410ecc4
CREATED;VALUE=DATE-TIME:20120715T000000Z
LOCATION:Riera  davant CALISAY
ORGANIZER:Associacio Col.leccionisme Nou i Vell
COMMENT:Preu: GRATUIT
Durada: De les 10 a les 21h
URL:https://arenysdemar.cat/document.php?id=23309
END:VEVENT
END:VCALENDAR