BEGIN:VCALENDAR
VERSION:2.0
PRODID:-//Plone.org//NONSGML plone.app.event//EN
X-WR-TIMEZONE:Europe/Madrid
BEGIN:VEVENT
SUMMARY:Fira mercat del col·leccionisme i antiquaris
DTSTART;TZID=Europe/Madrid;VALUE=DATE-TIME:20121014T100000
DTEND;TZID=Europe/Madrid;VALUE=DATE-TIME:20121014T110000
DTSTAMP;VALUE=DATE-TIME:20260422T122558Z
UID:f15f83fb78c603f71d55a0f012a5356d
CREATED;VALUE=DATE-TIME:20121014T000000Z
CATEGORIES:Mostra
LOCATION:Riera davant del Calisay
ORGANIZER:Associació Col·leccionisme Nou i Vell
URL:https://arenysdemar.cat/document.php?id=23312
END:VEVENT
END:VCALENDAR