BEGIN:VCALENDAR
VERSION:2.0
PRODID:-//Plone.org//NONSGML plone.app.event//EN
X-WR-TIMEZONE:Europe/Madrid
BEGIN:VEVENT
SUMMARY:Fira mercat del col·leccionisme i antiquaris
DTSTART;TZID=Europe/Madrid;VALUE=DATE-TIME:20121209T100000
DTEND;TZID=Europe/Madrid;VALUE=DATE-TIME:20121209T110000
DTSTAMP;VALUE=DATE-TIME:20260422T134721Z
UID:0b259594a537794129e4bba88577ac22
CREATED;VALUE=DATE-TIME:20121209T000000Z
CATEGORIES:Mostra
LOCATION:Riera davant del Calisay
ORGANIZER:Associació Col·leccionisme Nou i Vell
URL:https://arenysdemar.cat/document.php?id=23314
END:VEVENT
END:VCALENDAR