BEGIN:VCALENDAR
VERSION:2.0
PRODID:-//Plone.org//NONSGML plone.app.event//EN
X-WR-TIMEZONE:Europe/Madrid
BEGIN:VEVENT
SUMMARY:Teatre: Sopa de Pedres
DTSTART;TZID=Europe/Madrid;VALUE=DATE-TIME:20120219T180000
DTEND;TZID=Europe/Madrid;VALUE=DATE-TIME:20120219T190000
DTSTAMP;VALUE=DATE-TIME:20260420T212109Z
UID:8d7d157910658fb6cd24a0c2f40622f4
CREATED;VALUE=DATE-TIME:20120219T000000Z
CATEGORIES:Infantils
LOCATION:Teatre Principal - C. Església, 45-47
ORGANIZER:SC L'Esperança i Regidoria de cultura
COMMENT:Preu: 5&euro;
DESCRIPTION:a carrec de Teatre Nu
URL:https://arenysdemar.cat/document.php?id=23691
END:VEVENT
END:VCALENDAR