BEGIN:VCALENDAR
VERSION:2.0
PRODID:-//Plone.org//NONSGML plone.app.event//EN
X-WR-TIMEZONE:Europe/Madrid
BEGIN:VEVENT
SUMMARY:Arribada d'en Carnestoltes
DTSTART;TZID=Europe/Madrid;VALUE=DATE-TIME:20120217T200000
DTEND;TZID=Europe/Madrid;VALUE=DATE-TIME:20120217T210000
DTSTAMP;VALUE=DATE-TIME:20260420T102834Z
UID:72cc203fde3cd4c1e2d5dce02969fc05
CREATED;VALUE=DATE-TIME:20120217T000000Z
CATEGORIES:Festa
LOCATION:Pati del C.C.Calisay - Riera del Pare Fita, 31
ORGANIZER:Regidoria de Cultura
DESCRIPTION:Vine a rebre al Rei Carnestoltes
URL:https://arenysdemar.cat/document.php?id=23748
END:VEVENT
END:VCALENDAR