BEGIN:VCALENDAR
VERSION:2.0
PRODID:-//Plone.org//NONSGML plone.app.event//EN
X-WR-TIMEZONE:Europe/Madrid
BEGIN:VEVENT
SUMMARY:Fira-Mercat de l'&euro;uro
DTSTART;TZID=Europe/Madrid;VALUE=DATE-TIME:20120805T100000
DTEND;TZID=Europe/Madrid;VALUE=DATE-TIME:20120805T110000
DTSTAMP;VALUE=DATE-TIME:20260424T215709Z
UID:02e34203b8a07c7c056cae02d31b7ddf
CREATED;VALUE=DATE-TIME:20120805T000000Z
LOCATION:Plaça Mare Paula
ORGANIZER:Associacio Col·leccionisme Nou i Vell
COMMENT:Durada: de 10h a 20h
DESCRIPTION:Tots els productes al preu d'un euro!
URL:https://arenysdemar.cat/document.php?id=23845
END:VEVENT
END:VCALENDAR