BEGIN:VCALENDAR
VERSION:2.0
PRODID:-//Plone.org//NONSGML plone.app.event//EN
X-WR-TIMEZONE:Europe/Madrid
BEGIN:VEVENT
SUMMARY:Contes: Les bruixes de Sant Joan
DTSTART;TZID=Europe/Madrid;VALUE=DATE-TIME:20120617T120000
DTEND;TZID=Europe/Madrid;VALUE=DATE-TIME:20120617T130000
DTSTAMP;VALUE=DATE-TIME:20260426T005913Z
UID:58bdcff361f0a5625620eb965c818a65
CREATED;VALUE=DATE-TIME:20120617T000000Z
CATEGORIES:Infantils
LOCATION:Guingueta de Can Jalpí
ORGANIZER:Ajuntament d'Arenys de Mar, Ajuntament d'Arenys de  Munt i Jalpí Aventura
DESCRIPTION:a càrrec d'Albert Estengre
URL:https://arenysdemar.cat/document.php?id=23870
END:VEVENT
END:VCALENDAR