BEGIN:VCALENDAR
VERSION:2.0
PRODID:-//Plone.org//NONSGML plone.app.event//EN
X-WR-TIMEZONE:Europe/Madrid
BEGIN:VEVENT
SUMMARY:Bernat Font Trio en concert
DTSTART;TZID=Europe/Madrid;VALUE=DATE-TIME:20120817T230000
DTEND;TZID=Europe/Madrid;VALUE=DATE-TIME:20120818T000000
DTSTAMP;VALUE=DATE-TIME:20260425T031145Z
UID:208c0b4848acc76db90bbd668132989e
CREATED;VALUE=DATE-TIME:20120817T000000Z
CATEGORIES:Música
LOCATION:Pati del Xifré
ORGANIZER:Regidoria de Cultura i Organització Cavalcada de Reis
COMMENT:Preu: 8 &#128;
DESCRIPTION:21è Festival de Jazz
URL:https://arenysdemar.cat/document.php?id=23944
END:VEVENT
END:VCALENDAR