BEGIN:VCALENDAR
VERSION:2.0
PRODID:-//Plone.org//NONSGML plone.app.event//EN
X-WR-TIMEZONE:Europe/Madrid
BEGIN:VEVENT
SUMMARY:Torneig Volei Platja 4X4 Solidari
DTSTART;TZID=Europe/Madrid;VALUE=DATE-TIME:20120729T100000
DTEND;TZID=Europe/Madrid;VALUE=DATE-TIME:20120729T110000
DTSTAMP;VALUE=DATE-TIME:20260425T012233Z
UID:3d332c2dac9e3d3074f4990f13191264
CREATED;VALUE=DATE-TIME:20120729T000000Z
CATEGORIES:Esports
LOCATION:Platja Picòrdia (1ª Platja)
ORGANIZER:Club Volei Platja Arenys
COMMENT:Preu: 10 &euro;
URL:https://arenysdemar.cat/document.php?id=23982
END:VEVENT
END:VCALENDAR