BEGIN:VCALENDAR
VERSION:2.0
PRODID:-//Plone.org//NONSGML plone.app.event//EN
X-WR-TIMEZONE:Europe/Madrid
BEGIN:VEVENT
SUMMARY:XXXIè Aplec Sardanista
DTSTART;TZID=Europe/Madrid;VALUE=DATE-TIME:20120401T160000
DTEND;TZID=Europe/Madrid;VALUE=DATE-TIME:20120401T170000
DTSTAMP;VALUE=DATE-TIME:20260420T224549Z
UID:f2434182376bb8f4748747264317aae5
CREATED;VALUE=DATE-TIME:20120401T000000Z
CATEGORIES:Dansa
LOCATION:Parc de Lurdes - c/ de les Doedes 1
ORGANIZER:Ateneu Arenyenc-Secció Sardanista i Ajuntament d'Arenys de Mar. Col·labora: Patronat de Lurdes.
URL:https://arenysdemar.cat/document.php?id=23985
END:VEVENT
END:VCALENDAR