BEGIN:VCALENDAR
VERSION:2.0
PRODID:-//Plone.org//NONSGML plone.app.event//EN
X-WR-TIMEZONE:Europe/Madrid
BEGIN:VEVENT
SUMMARY:Ball a l'Ateneu
DTSTART;TZID=Europe/Madrid;VALUE=DATE-TIME:20120407T230000
DTEND;TZID=Europe/Madrid;VALUE=DATE-TIME:20120408T000000
DTSTAMP;VALUE=DATE-TIME:20260421T082816Z
UID:783905c7f1593f55f97e72181d3a65d9
CREATED;VALUE=DATE-TIME:20120407T000000Z
CATEGORIES:Festa
LOCATION:Ateneu Arenyenc
ORGANIZER:Ateneu Arenyenc
COMMENT:Preu: Socis: 6&euro;  No socis: 7&euro;
DESCRIPTION:amb el grup Aria
URL:https://arenysdemar.cat/document.php?id=23999
END:VEVENT
END:VCALENDAR