BEGIN:VCALENDAR
VERSION:2.0
PRODID:-//Plone.org//NONSGML plone.app.event//EN
X-WR-TIMEZONE:Europe/Madrid
BEGIN:VEVENT
SUMMARY:Concert d'estiu
DTSTART;TZID=Europe/Madrid;VALUE=DATE-TIME:20120701T190000
DTEND;TZID=Europe/Madrid;VALUE=DATE-TIME:20120701T200000
DTSTAMP;VALUE=DATE-TIME:20260422T113523Z
UID:f75eae146b398030d1390065ae195bc2
CREATED;VALUE=DATE-TIME:20120701T000000Z
CATEGORIES:Música
LOCATION:Teatre Principal - C. Església, 45-47
ORGANIZER:SC l'Esperança i Regidoria de Cultura
COMMENT:Preu: 3&euro;
DESCRIPTION:a càrrec de la Coral l'Esperança i Lo Llobregat de les Flors -Ad Livitum-
URL:https://arenysdemar.cat/document.php?id=24015
END:VEVENT
END:VCALENDAR