BEGIN:VCALENDAR
VERSION:2.0
PRODID:-//Plone.org//NONSGML plone.app.event//EN
X-WR-TIMEZONE:Europe/Madrid
BEGIN:VEVENT
SUMMARY:Exposició: Visions del Museu Marès de La Punta
DTSTART;TZID=Europe/Madrid;VALUE=DATE-TIME:20120423T100000
DTEND;TZID=Europe/Madrid;VALUE=DATE-TIME:20120423T110000
DTSTAMP;VALUE=DATE-TIME:20260425T180957Z
UID:6481935e23d6a6636228250cd10693f6
CREATED;VALUE=DATE-TIME:20120423T000000Z
CATEGORIES:Exposició
LOCATION:Sala de les bótes del C.C.Calisay
ORGANIZER:Ajuntament d'Arenys de Mar - Museu d'Arenys i l'AFA
DESCRIPTION:Fotografies de l'Agrupació Fotogràfica d'Arenys de Mar
URL:https://arenysdemar.cat/document.php?id=24037
END:VEVENT
END:VCALENDAR