BEGIN:VCALENDAR
VERSION:2.0
PRODID:-//Plone.org//NONSGML plone.app.event//EN
X-WR-TIMEZONE:Europe/Madrid
BEGIN:VEVENT
SUMMARY:Audició de sardanes
DTSTART;TZID=Europe/Madrid;VALUE=DATE-TIME:20120423T193000
DTEND;TZID=Europe/Madrid;VALUE=DATE-TIME:20120423T203000
DTSTAMP;VALUE=DATE-TIME:20260422T073713Z
UID:4bd92ab2d9f697eb52b93e64cd20baa9
CREATED;VALUE=DATE-TIME:20120423T000000Z
CATEGORIES:Dansa
LOCATION:Plaça de l'Església - Plaça de l'Església
ORGANIZER:Ateneu Arenyenc-Secció Sardanista i Ajuntament d'Arenys de Mar
DESCRIPTION:a càrrec de la Cobla Mediterrània
URL:https://arenysdemar.cat/document.php?id=24040
END:VEVENT
END:VCALENDAR