BEGIN:VCALENDAR
VERSION:2.0
PRODID:-//Plone.org//NONSGML plone.app.event//EN
X-WR-TIMEZONE:Europe/Madrid
BEGIN:VEVENT
SUMMARY:Sardanes
DTSTART;TZID=Europe/Madrid;VALUE=DATE-TIME:20120830T193000
DTEND;TZID=Europe/Madrid;VALUE=DATE-TIME:20120830T203000
DTSTAMP;VALUE=DATE-TIME:20260424T145648Z
UID:d7a0512050f8de6effe4a39725848bbc
CREATED;VALUE=DATE-TIME:20120830T000000Z
CATEGORIES:Dansa
LOCATION:Plaça de l'Església - Plaça de l'Església
ORGANIZER:Regidoria de Cultura i Ateneu Arenyenc
DESCRIPTION:a càrrec de la Cobla Marinada
URL:https://arenysdemar.cat/document.php?id=24047
END:VEVENT
END:VCALENDAR