BEGIN:VCALENDAR
VERSION:2.0
PRODID:-//Plone.org//NONSGML plone.app.event//EN
X-WR-TIMEZONE:Europe/Madrid
BEGIN:VEVENT
SUMMARY:Contes: Primavera de dracs
DTSTART;TZID=Europe/Madrid;VALUE=DATE-TIME:20120423T173000
DTEND;TZID=Europe/Madrid;VALUE=DATE-TIME:20120423T183000
DTSTAMP;VALUE=DATE-TIME:20260422T023726Z
UID:c86634e93ae5b3233c48f46e9796b2a2
CREATED;VALUE=DATE-TIME:20120423T000000Z
CATEGORIES:Infantils
LOCATION:Plaça de l'Església - Plaça de l'Església
ORGANIZER:Regidoria de Cultura
URL:https://arenysdemar.cat/document.php?id=24064
END:VEVENT
END:VCALENDAR