BEGIN:VCALENDAR
VERSION:2.0
PRODID:-//Plone.org//NONSGML plone.app.event//EN
X-WR-TIMEZONE:Europe/Madrid
BEGIN:VEVENT
SUMMARY:Nits Blanques
DTSTART;TZID=Europe/Madrid;VALUE=DATE-TIME:20120526T233000
DTEND;TZID=Europe/Madrid;VALUE=DATE-TIME:20120527T003000
DTSTAMP;VALUE=DATE-TIME:20260426T023933Z
UID:fbef2e4dbef42baf1eb45708924f2b21
CREATED;VALUE=DATE-TIME:20120526T000000Z
LOCATION:Locals d'oci
ORGANIZER:Regidoria de Turisme i Fires
DESCRIPTION:Vesteix-te de blanc i entra de franc!
URL:https://arenysdemar.cat/document.php?id=24104
END:VEVENT
END:VCALENDAR