BEGIN:VCALENDAR
VERSION:2.0
PRODID:-//Plone.org//NONSGML plone.app.event//EN
X-WR-TIMEZONE:Europe/Madrid
BEGIN:VEVENT
SUMMARY:Fira d'Indians
DTSTART;TZID=Europe/Madrid;VALUE=DATE-TIME:20120526T100000
DTEND;TZID=Europe/Madrid;VALUE=DATE-TIME:20120526T110000
DTSTAMP;VALUE=DATE-TIME:20260426T005846Z
UID:55c4a284bf038a167fd1b6f875a08be3
CREATED;VALUE=DATE-TIME:20120526T000000Z
LOCATION:Plaça de l'Església - Plaça de l'Església
ORGANIZER:Regidoria de Turisme i Fires, i Associació Fira del Solstici
COMMENT:Durada: 26 i 27 de maig durant tot el dia
DESCRIPTION:26 i 27 de maig durant tot el dia
URL:https://arenysdemar.cat/document.php?id=24110
END:VEVENT
END:VCALENDAR