BEGIN:VCALENDAR
VERSION:2.0
PRODID:-//Plone.org//NONSGML plone.app.event//EN
X-WR-TIMEZONE:Europe/Madrid
BEGIN:VEVENT
SUMMARY:Música tradicional a càrrec de Marc Egea i Cati Plana
DTSTART;TZID=Europe/Madrid;VALUE=DATE-TIME:20120818T220000
DTEND;TZID=Europe/Madrid;VALUE=DATE-TIME:20120818T230000
DTSTAMP;VALUE=DATE-TIME:20260425T031130Z
UID:084806f3d40c61c74b2c8348a2848ea5
CREATED;VALUE=DATE-TIME:20120818T000000Z
CATEGORIES:Música
LOCATION:A la Gruta del Parc de Lurdes
ORGANIZER:Regidoria de Cultura i Associació Escola de Música
DESCRIPTION:5è Festival de Música a la Gruta
URL:https://arenysdemar.cat/document.php?id=24130
END:VEVENT
END:VCALENDAR