BEGIN:VCALENDAR
VERSION:2.0
PRODID:-//Plone.org//NONSGML plone.app.event//EN
X-WR-TIMEZONE:Europe/Madrid
BEGIN:VEVENT
SUMMARY:Simultània d'Escacs
DTSTART;TZID=Europe/Madrid;VALUE=DATE-TIME:20120812T100000
DTEND;TZID=Europe/Madrid;VALUE=DATE-TIME:20120812T110000
DTSTAMP;VALUE=DATE-TIME:20260425T011200Z
UID:5ca829c6c3d99bdec659bc365a241ed4
CREATED;VALUE=DATE-TIME:20120812T000000Z
CATEGORIES:Esports
LOCATION:Plaça de l'Església - Plaça de l'Església
ORGANIZER:Ateneu Arenyenc
COMMENT:Preu: Gratuït
DESCRIPTION:Amb Viktor Moskalenko
URL:https://arenysdemar.cat/document.php?id=24163
END:VEVENT
END:VCALENDAR