BEGIN:VCALENDAR
VERSION:2.0
PRODID:-//Plone.org//NONSGML plone.app.event//EN
X-WR-TIMEZONE:Europe/Madrid
BEGIN:VEVENT
SUMMARY:Festa al carrer de les Escolàpies
DTSTART;TZID=Europe/Madrid;VALUE=DATE-TIME:20120616T000000
DTEND;TZID=Europe/Madrid;VALUE=DATE-TIME:20120616T010000
DTSTAMP;VALUE=DATE-TIME:20260425T225652Z
UID:9eed1e64f0e5f49977ebc4f9cbeedb5c
CREATED;VALUE=DATE-TIME:20120616T000000Z
CATEGORIES:Festa
LOCATION:Carrer de les Escolàpies
ORGANIZER:Comissió de festes del Carrer de les Escolàpies
COMMENT:Durada: També el 17 de juny de 2012
URL:https://arenysdemar.cat/document.php?id=24176
END:VEVENT
END:VCALENDAR