BEGIN:VCALENDAR
VERSION:2.0
PRODID:-//Plone.org//NONSGML plone.app.event//EN
X-WR-TIMEZONE:Europe/Madrid
BEGIN:VEVENT
SUMMARY:Visita comentada a l'exposició Ismael Smith, gravador. Del Modernisme a l´Art Déco
DTSTART;TZID=Europe/Madrid;VALUE=DATE-TIME:20120603T120000
DTEND;TZID=Europe/Madrid;VALUE=DATE-TIME:20120603T130000
DTSTAMP;VALUE=DATE-TIME:20260425T230836Z
UID:bf7eb9c59632fd16f4db970727b9ba40
CREATED;VALUE=DATE-TIME:20120603T000000Z
CATEGORIES:Exposició
LOCATION:Sala Exposicions del C.C.Calisay - Riera del Pare Fita, 31
ORGANIZER:Museu d'Arenys de Mar, Regidoria de Cultura, Diputació de Barcelona, Museu d'Art de Cerdanyola.
COMMENT:Preu: Gratuït
URL:https://arenysdemar.cat/document.php?id=24186
END:VEVENT
END:VCALENDAR