BEGIN:VCALENDAR
VERSION:2.0
PRODID:-//Plone.org//NONSGML plone.app.event//EN
X-WR-TIMEZONE:Europe/Madrid
BEGIN:VEVENT
SUMMARY:L'hora del conte i el retaule
DTSTART;TZID=Europe/Madrid;VALUE=DATE-TIME:20120524T180000
DTEND;TZID=Europe/Madrid;VALUE=DATE-TIME:20120524T190000
DTSTAMP;VALUE=DATE-TIME:20260425T142140Z
UID:a08a5cf491799ef2e7d79cbb8f7a9dcb
CREATED;VALUE=DATE-TIME:20120524T000000Z
CATEGORIES:Infantils
LOCATION:Església de Santa Maria - Plaça de l'Església
ORGANIZER:Biblioteca - Regidoria de Cultura
DESCRIPTION:a càrrec d'Esther Castañeda
URL:https://arenysdemar.cat/document.php?id=24204
END:VEVENT
END:VCALENDAR