BEGIN:VCALENDAR
VERSION:2.0
PRODID:-//Plone.org//NONSGML plone.app.event//EN
X-WR-TIMEZONE:Europe/Madrid
BEGIN:VEVENT
SUMMARY:XXX Fira del Sostici d'Estiu
DTSTART;TZID=Europe/Madrid;VALUE=DATE-TIME:20120622T170000
DTEND;TZID=Europe/Madrid;VALUE=DATE-TIME:20120622T180000
DTSTAMP;VALUE=DATE-TIME:20260426T005832Z
UID:d6b7f4be2a2ad701310756aea5cdb990
CREATED;VALUE=DATE-TIME:20120622T000000Z
CATEGORIES:Festa
LOCATION:De la Riera de Bisbe Pol, 77 fins el pont de Lourdes
ORGANIZER:Associació de la Fira del Solstici
COMMENT:Durada: divendres 22, dissabte 23 i diumenge 24
DESCRIPTION:Fira Solstici de Sant Joan
URL:https://arenysdemar.cat/document.php?id=24220
END:VEVENT
END:VCALENDAR