BEGIN:VCALENDAR
VERSION:2.0
PRODID:-//Plone.org//NONSGML plone.app.event//EN
X-WR-TIMEZONE:Europe/Madrid
BEGIN:VEVENT
SUMMARY:Xè Torneig de Bàsquet Sant Zenon
DTSTART;TZID=Europe/Madrid;VALUE=DATE-TIME:20120707T100000
DTEND;TZID=Europe/Madrid;VALUE=DATE-TIME:20120707T110000
DTSTAMP;VALUE=DATE-TIME:20260422T130232Z
UID:ee0c3a08b52428a512d25e7f99f3e53c
CREATED;VALUE=DATE-TIME:20120707T000000Z
CATEGORIES:Esports
LOCATION:CE Fondo de les Creus - Fondo de les Creus, s/n
ORGANIZER:Club Bàsquet Sinera
URL:https://arenysdemar.cat/document.php?id=24298
END:VEVENT
END:VCALENDAR