BEGIN:VCALENDAR
VERSION:2.0
PRODID:-//Plone.org//NONSGML plone.app.event//EN
X-WR-TIMEZONE:Europe/Madrid
BEGIN:VEVENT
SUMMARY:Festa al carrer Sant Rafel
DTSTART;TZID=Europe/Madrid;VALUE=DATE-TIME:20120914T210000
DTEND;TZID=Europe/Madrid;VALUE=DATE-TIME:20120914T220000
DTSTAMP;VALUE=DATE-TIME:20260425T124324Z
UID:7434bdafd03d4a8549e21b92ac759915
CREATED;VALUE=DATE-TIME:20120914T000000Z
CATEGORIES:Festa
LOCATION:al carrer Sant Rafel
ORGANIZER:Comissió de festes carrer Sant Rafel
COMMENT:Durada: 16 de setembre de 2012
URL:https://arenysdemar.cat/document.php?id=24300
END:VEVENT
END:VCALENDAR