BEGIN:VCALENDAR
VERSION:2.0
PRODID:-//Plone.org//NONSGML plone.app.event//EN
X-WR-TIMEZONE:Europe/Madrid
BEGIN:VEVENT
SUMMARY:Campanya de donació de sang
DTSTART;TZID=Europe/Madrid;VALUE=DATE-TIME:20120526T170000
DTEND;TZID=Europe/Madrid;VALUE=DATE-TIME:20120526T180000
DTSTAMP;VALUE=DATE-TIME:20260425T225706Z
UID:cbb9e327d681d1093afe6b3032c08ff4
CREATED;VALUE=DATE-TIME:20120526T000000Z
LOCATION:Riera davant del Calisay
COMMENT:Durada: De 17 a 21h i diumenge de 10 a 14h
URL:https://arenysdemar.cat/document.php?id=24302
END:VEVENT
END:VCALENDAR