BEGIN:VCALENDAR
VERSION:2.0
PRODID:-//Plone.org//NONSGML plone.app.event//EN
X-WR-TIMEZONE:Europe/Madrid
BEGIN:VEVENT
SUMMARY:Com cultivar amb èxit orquídies a casa. Petits consells per tornar-les a fer florir
DTSTART;TZID=Europe/Madrid;VALUE=DATE-TIME:20120602T120000
DTEND;TZID=Europe/Madrid;VALUE=DATE-TIME:20120602T130000
DTSTAMP;VALUE=DATE-TIME:20260425T232530Z
UID:5be78c603e591579b24a3d59305ea327
CREATED;VALUE=DATE-TIME:20120602T000000Z
CATEGORIES:Conferència
LOCATION:Sala Noble del C.C.Calisay - Riera Pare Fita, 31
ORGANIZER:Ass.Catalana d'Amics de les Orquídies i Regidoria de Cultura
DESCRIPTION:A càrrec de Lourdes Sió
URL:https://arenysdemar.cat/document.php?id=24312
END:VEVENT
END:VCALENDAR