BEGIN:VCALENDAR
VERSION:2.0
PRODID:-//Plone.org//NONSGML plone.app.event//EN
X-WR-TIMEZONE:Europe/Madrid
BEGIN:VEVENT
SUMMARY:Presentació de fotografies sobre l' Exposició Mundial WOC Singapur  2011 i l' Europea EOC del 2012 a Budapest
DTSTART;TZID=Europe/Madrid;VALUE=DATE-TIME:20120603T180000
DTEND;TZID=Europe/Madrid;VALUE=DATE-TIME:20120603T190000
DTSTAMP;VALUE=DATE-TIME:20260426T010143Z
UID:0d35c85c7615a97b961d50442d4b7bab
CREATED;VALUE=DATE-TIME:20120603T000000Z
CATEGORIES:Conferència
LOCATION:Sala Noble del C.C.Calisay - Riera Pare Fita, 31
ORGANIZER:Ass.Catalana d'Amics de les Orquídies i Regidoria de Cultura
DESCRIPTION:A càrrec de Ramón Casadesús
URL:https://arenysdemar.cat/document.php?id=24315
END:VEVENT
END:VCALENDAR