BEGIN:VCALENDAR
VERSION:2.0
PRODID:-//Plone.org//NONSGML plone.app.event//EN
X-WR-TIMEZONE:Europe/Madrid
BEGIN:VEVENT
SUMMARY:Concert de banda
DTSTART;TZID=Europe/Madrid;VALUE=DATE-TIME:20120706T200000
DTEND;TZID=Europe/Madrid;VALUE=DATE-TIME:20120706T210000
DTSTAMP;VALUE=DATE-TIME:20260425T033351Z
UID:0a6d5879664585e3e04644af0e62ef9c
CREATED;VALUE=DATE-TIME:20120706T000000Z
CATEGORIES:Música
LOCATION:Plaça Ajuntament - Riera Bisbe Pol, 8
ORGANIZER:EMA i Ajuntament d'Arenys de Mar
DESCRIPTION:a càrrec de la Banda de l'EMA
URL:https://arenysdemar.cat/document.php?id=24317
END:VEVENT
END:VCALENDAR