BEGIN:VCALENDAR
VERSION:2.0
PRODID:-//Plone.org//NONSGML plone.app.event//EN
X-WR-TIMEZONE:Europe/Madrid
BEGIN:VEVENT
SUMMARY:Traca
DTSTART;TZID=Europe/Madrid;VALUE=DATE-TIME:20120708T224500
DTEND;TZID=Europe/Madrid;VALUE=DATE-TIME:20120708T234500
DTSTAMP;VALUE=DATE-TIME:20260423T163440Z
UID:5e43d2307733217593e96dafac22e550
CREATED;VALUE=DATE-TIME:20120708T000000Z
CATEGORIES:Festa
LOCATION:Riera
ORGANIZER:Ajuntament d'Arenys de Mar
DESCRIPTION:a càrrec de la Pirotècnia Europlà
URL:https://arenysdemar.cat/document.php?id=24331
END:VEVENT
END:VCALENDAR