BEGIN:VCALENDAR
VERSION:2.0
PRODID:-//Plone.org//NONSGML plone.app.event//EN
X-WR-TIMEZONE:Europe/Madrid
BEGIN:VEVENT
SUMMARY:Espectacle infantil: Moxi i Toxi i el tro sense rei
DTSTART;TZID=Europe/Madrid;VALUE=DATE-TIME:20120805T190000
DTEND;TZID=Europe/Madrid;VALUE=DATE-TIME:20120805T200000
DTSTAMP;VALUE=DATE-TIME:20260424T233454Z
UID:3c2e177cd561c387a96ddee931d3bea0
CREATED;VALUE=DATE-TIME:20120805T000000Z
CATEGORIES:Infantils
LOCATION:Pati del Xifré - Auterive, s/n
ORGANIZER:FLOC i regidoria de Cultura
DESCRIPTION:amb Diverta
URL:https://arenysdemar.cat/document.php?id=24340
END:VEVENT
END:VCALENDAR