BEGIN:VCALENDAR
VERSION:2.0
PRODID:-//Plone.org//NONSGML plone.app.event//EN
X-WR-TIMEZONE:Europe/Madrid
BEGIN:VEVENT
SUMMARY:Festa al carrer Bisbe Vilà i Mateu
DTSTART;TZID=Europe/Madrid;VALUE=DATE-TIME:20120721T200000
DTEND;TZID=Europe/Madrid;VALUE=DATE-TIME:20120721T210000
DTSTAMP;VALUE=DATE-TIME:20260425T033322Z
UID:e7bcfe1b8c424efef0235d64064b7940
CREATED;VALUE=DATE-TIME:20120721T000000Z
CATEGORIES:Festa
LOCATION:al carrer Bisbe Vilà i Mateu
ORGANIZER:Veïns del carrer Bisbe Vilà i Mateu
URL:https://arenysdemar.cat/document.php?id=24342
END:VEVENT
END:VCALENDAR