BEGIN:VCALENDAR
VERSION:2.0
PRODID:-//Plone.org//NONSGML plone.app.event//EN
X-WR-TIMEZONE:Europe/Madrid
BEGIN:VEVENT
SUMMARY:Trobada de gegants
DTSTART;TZID=Europe/Madrid;VALUE=DATE-TIME:20120707T180000
DTEND;TZID=Europe/Madrid;VALUE=DATE-TIME:20120707T190000
DTSTAMP;VALUE=DATE-TIME:20260424T202007Z
UID:6ec477d34d8d113a9d2bc8da321c3f7b
CREATED;VALUE=DATE-TIME:20120707T000000Z
CATEGORIES:Festa
LOCATION:Riera, davant del CC Calisay
ORGANIZER:Geganters d'Arenys de Mar i  Ajuntament d'Arenys de Mar
DESCRIPTION:Els nostres gegants i els seus convidats, faran una volta pels carrers de la nostra vila
URL:https://arenysdemar.cat/document.php?id=24344
END:VEVENT
END:VCALENDAR