BEGIN:VCALENDAR
VERSION:2.0
PRODID:-//Plone.org//NONSGML plone.app.event//EN
X-WR-TIMEZONE:Europe/Madrid
BEGIN:VEVENT
SUMMARY:Torneig de Futbol Base "Cesc Fàbregas"
DTSTART;TZID=Europe/Madrid;VALUE=DATE-TIME:20120609T090000
DTEND;TZID=Europe/Madrid;VALUE=DATE-TIME:20120609T100000
DTSTAMP;VALUE=DATE-TIME:20260425T225746Z
UID:a944afe57e6122d1585157082263ca45
CREATED;VALUE=DATE-TIME:20120609T000000Z
CATEGORIES:Esports
LOCATION:Camp de Futbol - Rial de sa Clavella, s/n
ORGANIZER:Club de Futbol Arenys de Mar
COMMENT:Durada: El diumenge 10 de juny i el dissabte 16 de juny
URL:https://arenysdemar.cat/document.php?id=24393
END:VEVENT
END:VCALENDAR