BEGIN:VCALENDAR
VERSION:2.0
PRODID:-//Plone.org//NONSGML plone.app.event//EN
X-WR-TIMEZONE:Europe/Madrid
BEGIN:VEVENT
SUMMARY:Torneig Juvenil Vila d'Arenys de Mar de Futbol
DTSTART;TZID=Europe/Madrid;VALUE=DATE-TIME:20120818T160000
DTEND;TZID=Europe/Madrid;VALUE=DATE-TIME:20120818T170000
DTSTAMP;VALUE=DATE-TIME:20260425T031230Z
UID:c4fef1d902fee195a5e2ae9d97dd5f4f
CREATED;VALUE=DATE-TIME:20120818T000000Z
CATEGORIES:Esports
LOCATION:Camp de Futbol - Rial de sa Clavella, s/n
ORGANIZER:Club de Futbol Arenys de Mar
COMMENT:Durada: Fins al 19 d'agost
URL:https://arenysdemar.cat/document.php?id=24398
END:VEVENT
END:VCALENDAR