BEGIN:VCALENDAR
VERSION:2.0
PRODID:-//Plone.org//NONSGML plone.app.event//EN
X-WR-TIMEZONE:Europe/Madrid
BEGIN:VEVENT
SUMMARY:Xerrada debat: "La gestió del temps: ahir, avui i demà"
DTSTART;TZID=Europe/Madrid;VALUE=DATE-TIME:20120611T193000
DTEND;TZID=Europe/Madrid;VALUE=DATE-TIME:20120611T203000
DTSTAMP;VALUE=DATE-TIME:20260426T005802Z
UID:8296667c4126329124f620a078ac5c6e
CREATED;VALUE=DATE-TIME:20120611T000000Z
CATEGORIES:Exposició,Mostra,Conferència
LOCATION:Biblioteca - Bonaire, 2
ORGANIZER:Regidoria d'Igualtat
COMMENT:Preu: gratuït
URL:https://arenysdemar.cat/document.php?id=24404
END:VEVENT
END:VCALENDAR