BEGIN:VCALENDAR
VERSION:2.0
PRODID:-//Plone.org//NONSGML plone.app.event//EN
X-WR-TIMEZONE:Europe/Madrid
BEGIN:VEVENT
SUMMARY:De capella a capella, de conte a conte...
DTSTART;TZID=Europe/Madrid;VALUE=DATE-TIME:20120602T220000
DTEND;TZID=Europe/Madrid;VALUE=DATE-TIME:20120602T230000
DTSTAMP;VALUE=DATE-TIME:20260425T232002Z
UID:e870b588222f574116f7f07cdc9ab923
CREATED;VALUE=DATE-TIME:20120602T000000Z
CATEGORIES:Mostra
LOCATION:A la capella del Xifré
ORGANIZER:Ajuntament d'Arenys de Mar
DESCRIPTION:Contes a càrrec d'Albert Estengre
URL:https://arenysdemar.cat/document.php?id=24414
END:VEVENT
END:VCALENDAR