BEGIN:VCALENDAR
VERSION:2.0
PRODID:-//Plone.org//NONSGML plone.app.event//EN
X-WR-TIMEZONE:Europe/Madrid
BEGIN:VEVENT
SUMMARY:Revetlla de Sant Joan
DTSTART;TZID=Europe/Madrid;VALUE=DATE-TIME:20120623T235900
DTEND;TZID=Europe/Madrid;VALUE=DATE-TIME:20120624T005900
DTSTAMP;VALUE=DATE-TIME:20260425T231005Z
UID:6ab40f5090cbebe1de63cbe8ef58d95b
CREATED;VALUE=DATE-TIME:20120623T000000Z
CATEGORIES:Festa
LOCATION:Platja de la Picòrdia
ORGANIZER:Ajuntament d'Arenys de Mar, Africània i Geganters
DESCRIPTION:amb l'Orquestra La Banda Puig i Dj Clandestino
URL:https://arenysdemar.cat/document.php?id=24415
END:VEVENT
END:VCALENDAR