BEGIN:VCALENDAR
VERSION:2.0
PRODID:-//Plone.org//NONSGML plone.app.event//EN
X-WR-TIMEZONE:Europe/Madrid
BEGIN:VEVENT
SUMMARY:Torneig d'escacs
DTSTART;TZID=Europe/Madrid;VALUE=DATE-TIME:20120708T100000
DTEND;TZID=Europe/Madrid;VALUE=DATE-TIME:20120708T110000
DTSTAMP;VALUE=DATE-TIME:20260423T145253Z
UID:15a43a95e35fa6f610120b86f1910bac
CREATED;VALUE=DATE-TIME:20120708T000000Z
CATEGORIES:Esports
LOCATION:ATENEU ARENYENC-Sala socis
ORGANIZER:Ateneu Arenyenc-Secció d´escacs
COMMENT:Preu: Gratuit
DESCRIPTION:Partides rapides- Sant Zenon 2012
URL:https://arenysdemar.cat/document.php?id=24445
END:VEVENT
END:VCALENDAR