BEGIN:VCALENDAR
VERSION:2.0
PRODID:-//Plone.org//NONSGML plone.app.event//EN
X-WR-TIMEZONE:Europe/Madrid
BEGIN:VEVENT
SUMMARY:Budafest
DTSTART;TZID=Europe/Madrid;VALUE=DATE-TIME:20120721T180000
DTEND;TZID=Europe/Madrid;VALUE=DATE-TIME:20120721T190000
DTSTAMP;VALUE=DATE-TIME:20260423T134546Z
UID:904bd09dfd9a5227889862666a835a43
CREATED;VALUE=DATE-TIME:20120721T000000Z
CATEGORIES:Festa,Infantils
LOCATION:Pati del Xifré - Auterive, s/n
ORGANIZER:Associació de Geganters d'Arenys de Mar
DESCRIPTION:Festa per a nens i nenes de totes les edats
URL:https://arenysdemar.cat/document.php?id=24447
END:VEVENT
END:VCALENDAR