BEGIN:VCALENDAR
VERSION:2.0
PRODID:-//Plone.org//NONSGML plone.app.event//EN
X-WR-TIMEZONE:Europe/Madrid
BEGIN:VEVENT
SUMMARY:El conte de la flama
DTSTART;TZID=Europe/Madrid;VALUE=DATE-TIME:20120615T183000
DTEND;TZID=Europe/Madrid;VALUE=DATE-TIME:20120615T193000
DTSTAMP;VALUE=DATE-TIME:20260426T024213Z
UID:9880750209e4d26216a2812a67eacadf
CREATED;VALUE=DATE-TIME:20120615T000000Z
CATEGORIES:Infantils
LOCATION:Pati del C.C.Calisay - Riera del Pare Fita, 31
ORGANIZER:Flama del Canigó
DESCRIPTION:a càrrec d'Albert Estengre
URL:https://arenysdemar.cat/document.php?id=24458
END:VEVENT
END:VCALENDAR